BEGIN:VCALENDAR
VERSION:2.0
PRODID:icalendar-ruby
CALSCALE:GREGORIAN
METHOD:PUBLISH
BEGIN:VEVENT
DTSTAMP:20260420T161742Z
UID:160-1472068@greenriveralliance.org
DTSTART:20261015T000000Z
DTEND:20261015T013000Z
CLASS:PUBLIC
CREATED:20260420T075926
DESCRIPTION:Children aged Preschool through 5th grade are welcome to join u
 s on (most) Wednesday nights at 6 PM for fun\, Bible Study\, learning\, an
 d playing together. We meet throughout the school year with a break for th
 e summer and major holidays. 
LAST-MODIFIED:20260420T075926
LOCATION:2190  W Teton Blvd
SUMMARY:Spark Kids Ministry
URL;VALUE=URI:https://greenriveralliance.org/events/spark-kids-ministry--16
 0/2026-10-14
ATTACH;FILENAME=Spark Kids Ministry Graphics.jpg;FMTTYPE=image/jpeg:https:/
 /dq5pwpg1q8ru0.cloudfront.net/2024/09/09/20/48/56/f30fbb27-b7a7-441f-8e3b-
 d6017a0dfc04/Spark%20Kids%20Ministry%20Graphics.jpg
END:VEVENT
END:VCALENDAR
